BEGIN:VCALENDAR
VERSION:2.0
PRODID:-//Hall da Fama da Natação Brasileira - ECPv6.15.20//NONSGML v1.0//EN
CALSCALE:GREGORIAN
METHOD:PUBLISH
X-WR-CALNAME:Hall da Fama da Natação Brasileira
X-ORIGINAL-URL:https://hfnb.com.br
X-WR-CALDESC:Eventos para Hall da Fama da Natação Brasileira
REFRESH-INTERVAL;VALUE=DURATION:PT1H
X-Robots-Tag:noindex
X-PUBLISHED-TTL:PT1H
BEGIN:VTIMEZONE
TZID:America/Sao_Paulo
BEGIN:STANDARD
TZOFFSETFROM:-0200
TZOFFSETTO:-0300
TZNAME:-03
DTSTART:20180218T020000
END:STANDARD
BEGIN:DAYLIGHT
TZOFFSETFROM:-0300
TZOFFSETTO:-0200
TZNAME:-02
DTSTART:20181104T030000
END:DAYLIGHT
BEGIN:STANDARD
TZOFFSETFROM:-0200
TZOFFSETTO:-0300
TZNAME:-03
DTSTART:20190217T020000
END:STANDARD
END:VTIMEZONE
BEGIN:VEVENT
DTSTART;VALUE=DATE:20240726
DTEND;VALUE=DATE:20240812
DTSTAMP:20260422T091509
CREATED:20210820T134415Z
LAST-MODIFIED:20210820T134415Z
UID:1788-1721952000-1723420799@hfnb.com.br
SUMMARY:XXXIII Jogos Olímpicos
DESCRIPTION:
URL:https://hfnb.com.br/evento/xxxiii-jogos-olimpicos/
LOCATION:Paris\, Paris\, França
CATEGORIES:Competição
ATTACH;FMTTYPE=image/png:https://hfnb.com.br/wp-content/uploads/2021/08/1200px-2024_Summer_Olympics_logo.svg.png
END:VEVENT
BEGIN:VEVENT
DTSTART;TZID=America/Sao_Paulo:20220408T180000
DTEND;TZID=America/Sao_Paulo:20220408T190000
DTSTAMP:20260422T091509
CREATED:20220402T175058Z
LAST-MODIFIED:20220402T175058Z
UID:1817-1649440800-1649444400@hfnb.com.br
SUMMARY:Cerimônia de Apresentação de Novo Homenageado no HFNB 2022
DESCRIPTION:
URL:https://hfnb.com.br/evento/cerimonia-de-apresentacao-de-novo-homenageado-no-hfnb-2022/
LOCATION:Parque Aquático Maria Lenk\, Av. Embaixador Abelardo Bueno\, Rio de Janeiro\, RJ\, 22775-040\, Brasil
ATTACH;FMTTYPE=image/jpeg:https://hfnb.com.br/wp-content/uploads/2022/04/novo-integrante.jpg
ORGANIZER;CN="Hall da Fama da Nata%C3%A7%C3%A3o Brasileira":MAILTO:contato@hfnb.com.br
END:VEVENT
BEGIN:VEVENT
DTSTART;VALUE=DATE:20220406
DTEND;VALUE=DATE:20220411
DTSTAMP:20260422T091509
CREATED:20220402T174723Z
LAST-MODIFIED:20220402T174723Z
UID:1813-1649203200-1649635199@hfnb.com.br
SUMMARY:Troféu Brasil de Natação
DESCRIPTION:
URL:https://hfnb.com.br/evento/trofeu-brasil-de-natacao/
LOCATION:Parque Aquático Maria Lenk\, Av. Embaixador Abelardo Bueno\, Rio de Janeiro\, RJ\, 22775-040\, Brasil
CATEGORIES:Evento
ATTACH;FMTTYPE=image/jpeg:https://hfnb.com.br/wp-content/uploads/2022/04/trofeu-brasil-2022.jpg
END:VEVENT
BEGIN:VEVENT
DTSTART;VALUE=DATE:20211216
DTEND;VALUE=DATE:20211222
DTSTAMP:20260422T091509
CREATED:20210820T133837Z
LAST-MODIFIED:20210820T133837Z
UID:1782-1639612800-1640131199@hfnb.com.br
SUMMARY:Campeonato Mundial de Natação em Piscina Curta
DESCRIPTION:Abu Dhabi (UAE) will welcome the best swimmers in the globe for a six-day show between December 16 – 21 for the 15th edition of the FINA World Swimming Championships. The competition will take place in the iconic Etihad Arena\, which for the occasion will be transformed into an aquatics haven equipped of a 25m temporary pool.  \nCheck out all the qualified athletes to #FINAAbuDhabi2021! \nThe United Arab Emirates will play host to the prestigious short-course showcase for the second time\, after a successful edition in 2010 in Dubai\, while Hangzhou (CHN) and Windsor (CAN) hosted the two previous editions in 2018 and 2016 respectively. \nThe FINA Aquatics Convention\, always held in conjunction with the Championships\, will be organised in the same city from December 13-15.
URL:https://hfnb.com.br/evento/campeonato-mundial-de-natacao-em-piscina-curta/
LOCATION:Abu Dhabi\, Emirados Árabes
CATEGORIES:Competição
ATTACH;FMTTYPE=image/webp:https://hfnb.com.br/wp-content/uploads/2021/08/FINA_Website_Banners_1920X1080px_Events_02-17.jpg.webp
END:VEVENT
BEGIN:VEVENT
DTSTART;TZID=America/Sao_Paulo:20210810T080000
DTEND;TZID=America/Sao_Paulo:20210814T170000
DTSTAMP:20260422T091509
CREATED:20210820T132959Z
LAST-MODIFIED:20210820T132959Z
UID:1773-1628582400-1628960400@hfnb.com.br
SUMMARY:Campeonato Brasileiro Absoluto de Natação - Troféu José Finkel
DESCRIPTION:
URL:https://hfnb.com.br/evento/campeonato-brasileiro-absoluto-de-natacao-trofeu-jose-finkel/
LOCATION:RJ
CATEGORIES:Competição
ATTACH;FMTTYPE=image/jpeg:https://hfnb.com.br/wp-content/uploads/2021/08/balizanova.jpeg
END:VEVENT
BEGIN:VEVENT
DTSTART;VALUE=DATE:20210803
DTEND;VALUE=DATE:20210805
DTSTAMP:20260422T091509
CREATED:20200330T194632Z
LAST-MODIFIED:20210424T213132Z
UID:1598-1627948800-1628121599@hfnb.com.br
SUMMARY:XXXII Jogos Olímpicos - Maratonas Aquáticas
DESCRIPTION:
URL:https://hfnb.com.br/evento/xxxii-jogos-olimpicos-maratonas-aquaticas/
LOCATION:Tóquio\, Tóquio\, Japão
CATEGORIES:Competição
ATTACH;FMTTYPE=image/jpeg:https://hfnb.com.br/wp-content/uploads/2019/12/0Z1LrSvDH-rvrEgRF.jpg
END:VEVENT
BEGIN:VEVENT
DTSTART;VALUE=DATE:20210724
DTEND;VALUE=DATE:20210801
DTSTAMP:20260422T091509
CREATED:20191014T231400Z
LAST-MODIFIED:20210424T212959Z
UID:1300-1627084800-1627775999@hfnb.com.br
SUMMARY:XXXII Jogos Olímpicos - Natação
DESCRIPTION:
URL:https://hfnb.com.br/evento/xxxii-jogos-olimpicos/
LOCATION:Tóquio\, Tóquio\, Japão
CATEGORIES:Competição
ATTACH;FMTTYPE=image/jpeg:https://hfnb.com.br/wp-content/uploads/2019/10/olympicemblemjpg.jpg
END:VEVENT
BEGIN:VEVENT
DTSTART;TZID=America/Sao_Paulo:20210419T080000
DTEND;TZID=America/Sao_Paulo:20210424T200000
DTSTAMP:20260422T091509
CREATED:20210424T212756Z
LAST-MODIFIED:20210424T212756Z
UID:1759-1618819200-1619294400@hfnb.com.br
SUMMARY:Seletiva Olímpica Brasileira
DESCRIPTION:
URL:https://hfnb.com.br/evento/seletiva-olimpica-brasileira-2/
LOCATION:Parque Aquático Maria Lenk\, Av. Embaixador Abelardo Bueno\, Rio de Janeiro\, RJ\, 22775-040\, Brasil
CATEGORIES:Competição
ATTACH;FMTTYPE=image/jpeg:https://hfnb.com.br/wp-content/uploads/2021/04/20210206010812.jpeg
END:VEVENT
BEGIN:VEVENT
DTSTART;VALUE=DATE:20200622
DTEND;VALUE=DATE:20200628
DTSTAMP:20260422T091509
CREATED:20191225T113141Z
LAST-MODIFIED:20200330T195151Z
UID:1589-1592784000-1593302399@hfnb.com.br
SUMMARY:*CANCELADA* Seletiva Olímpica Brasileira
DESCRIPTION:
URL:https://hfnb.com.br/evento/seletiva-olimpica-brasileira/
LOCATION:Parque Aquático Maria Lenk\, Av. Embaixador Abelardo Bueno\, Rio de Janeiro\, RJ\, 22775-040\, Brasil
CATEGORIES:Competição
ATTACH;FMTTYPE=image/jpeg:https://hfnb.com.br/wp-content/uploads/2019/12/0Z1LrSvDH-rvrEgRF.jpg
END:VEVENT
BEGIN:VEVENT
DTSTART;TZID=America/Sao_Paulo:20191016T193000
DTEND;TZID=America/Sao_Paulo:20191016T213000
DTSTAMP:20260422T091509
CREATED:20191014T211938Z
LAST-MODIFIED:20191014T211938Z
UID:1293-1571254200-1571261400@hfnb.com.br
SUMMARY:Inclusão de novos homenageados no Hall da Fama
DESCRIPTION:Os novos homenageados serão Ricardo Prado e Maria Lenk (in memoriam)
URL:https://hfnb.com.br/evento/inclusao-de-novos-homenageados-no-hall-da-fama/
LOCATION:Hall da Fama da Natação Brasileira\, Rua Rita Joana de Souza\, 68\, São Paulo\, SP\, 04601-060\, Brasil
CATEGORIES:Cerimônia
ORGANIZER;CN="Hall da Fama da Nata%C3%A7%C3%A3o Brasileira":MAILTO:contato@hfnb.com.br
END:VEVENT
END:VCALENDAR